BEGIN:VCALENDAR
VERSION:2.0
PRODID:-//casaofterrebonne.org//NONSGML kigkonsult.se iCalcreator 2.30.10//
CALSCALE:GREGORIAN
METHOD:PUBLISH
UID:ea70e05e-c303-4f8b-8758-a67132860e9f
X-WR-CALDESC:April is Volunteer Appreciation Month\, and you know we love t
 o show our appreciation with food! Join us for our Annual Volunteer Apprec
 iation Crawfish Boil on April 17th at the CASA office.\n\nOnce again\, The
  Shack of Houma is generously donating the crawfish\, along with all the f
 ixins.\n\nAll advocates are welcome to bring a guest if you plan to dine w
 ith us at the office. If you're unable to stay\, we offer a convenient dri
 ve-up option where volunteers can pick up a to-go serving of crawfish (one
  per volunteer).\n\nPlease RSVP to let us know whether you'll be dining in
  (and bringing a plus one) or picking up. We look forward to celebrating w
 ith you on the 17th!
X-WR-RELCALID:4b4f4b802ad0e8e6f2d70d65bfdda172
X-WR-TIMEZONE:America/Chicago
BEGIN:VTIMEZONE
TZID:America/Chicago
BEGIN:STANDARD
TZNAME:CST
DTSTART:20251102T020000
TZOFFSETFROM:-0500
TZOFFSETTO:-0600
RDATE:20261101T020000
END:STANDARD
BEGIN:DAYLIGHT
TZNAME:CDT
DTSTART:20260308T020000
TZOFFSETFROM:-0600
TZOFFSETTO:-0500
RDATE:20270314T020000
END:DAYLIGHT
END:VTIMEZONE
BEGIN:VEVENT
UID:912beb67-3e75-4c8d-ba97-c7e061ed3828
DTSTAMP:20260422T051118Z
DESCRIPTION:April is Volunteer Appreciation Month\, and you know we love to
  show our appreciation with food! Join us for our Annual Volunteer Appreci
 ation Crawfish Boil on April 17th at the CASA office.\n\nOnce again\, The 
 Shack of Houma is generously donating the crawfish\, along with all the fi
 xins.\n\nAll advocates are welcome to bring a guest if you plan to dine wi
 th us at the office. If you're unable to stay\, we offer a convenient driv
 e-up option where volunteers can pick up a to-go serving of crawfish (one 
 per volunteer).\n\nPlease RSVP to let us know whether you'll be dining in 
 (and bringing a plus one) or picking up. We look forward to celebrating wi
 th you on the 17th!
DTSTART;TZID=America/Chicago:20260417T110000
DTEND;TZID=America/Chicago:20260417T150000
LOCATION:CASA of Terrebonne Office\, 402 Canal Street\, Houma\, LA
SUMMARY:Volunteer Crawfish Boil
END:VEVENT
END:VCALENDAR
