BEGIN:VCALENDAR
VERSION:2.0
PRODID:-//casaofterrebonne.org//NONSGML kigkonsult.se iCalcreator 2.30.10//
CALSCALE:GREGORIAN
METHOD:PUBLISH
UID:54f87260-e17a-4b5b-8cf5-673b2836b65c
X-WR-CALDESC:
X-WR-RELCALID:e8490c95fd47da4be6cffdfe2dd45ed9
X-WR-TIMEZONE:America/Chicago
BEGIN:VTIMEZONE
TZID:America/Chicago
BEGIN:STANDARD
TZNAME:CST
DTSTART:20221106T020000
TZOFFSETFROM:-0500
TZOFFSETTO:-0600
RDATE:20231105T020000
RDATE:20241103T020000
END:STANDARD
BEGIN:DAYLIGHT
TZNAME:CDT
DTSTART:20230312T020000
TZOFFSETFROM:-0600
TZOFFSETTO:-0500
RDATE:20240310T020000
END:DAYLIGHT
END:VTIMEZONE
BEGIN:VEVENT
UID:9e626982-c7ad-4c3a-888d-3ea0302c8f0a
DTSTAMP:20260421T053337Z
DESCRIPTION:
DTSTART;TZID=America/Chicago:20230518T170000
DTEND;TZID=America/Chicago:20230518T180000
LOCATION:
SUMMARY:Board Meeting
END:VEVENT
END:VCALENDAR
