BEGIN:VCALENDAR
VERSION:2.0
PRODID:-//casaofterrebonne.org//NONSGML kigkonsult.se iCalcreator 2.30.10//
CALSCALE:GREGORIAN
METHOD:PUBLISH
UID:afddfe52-0385-4bb6-9734-9d176bd212d1
X-WR-CALDESC:
X-WR-RELCALID:e36911269eed6d5b3e7988f657c99508
X-WR-TIMEZONE:America/Chicago
BEGIN:VTIMEZONE
TZID:America/Chicago
BEGIN:STANDARD
TZNAME:CST
DTSTART:20211107T020000
TZOFFSETFROM:-0500
TZOFFSETTO:-0600
RDATE:20221106T020000
RDATE:20231105T020000
END:STANDARD
BEGIN:DAYLIGHT
TZNAME:CDT
DTSTART:20220313T020000
TZOFFSETFROM:-0600
TZOFFSETTO:-0500
RDATE:20230312T020000
END:DAYLIGHT
END:VTIMEZONE
BEGIN:VEVENT
UID:a61ad484-72dd-4856-92d6-67d5c6dad899
DTSTAMP:20260423T130010Z
DESCRIPTION:
DTSTART;TZID=America/Chicago:20220630T170000
DTEND;TZID=America/Chicago:20220630T180000
LOCATION:
SUMMARY:Board Meeting
END:VEVENT
END:VCALENDAR
