BEGIN:VCALENDAR
VERSION:2.0
PRODID:-//casaofterrebonne.org//NONSGML kigkonsult.se iCalcreator 2.30.10//
CALSCALE:GREGORIAN
METHOD:PUBLISH
UID:17c2972f-cce8-4eb1-b6fa-df12072008e0
X-WR-CALDESC:
X-WR-RELCALID:74da7688952a86a84c5b1b39307afad4
X-WR-TIMEZONE:America/Chicago
BEGIN:VTIMEZONE
TZID:America/Chicago
BEGIN:STANDARD
TZNAME:CST
DTSTART:20211107T020000
TZOFFSETFROM:-0500
TZOFFSETTO:-0600
RDATE:20221106T020000
RDATE:20231105T020000
END:STANDARD
BEGIN:DAYLIGHT
TZNAME:CDT
DTSTART:20220313T020000
TZOFFSETFROM:-0600
TZOFFSETTO:-0500
RDATE:20230312T020000
END:DAYLIGHT
END:VTIMEZONE
BEGIN:VEVENT
UID:f0719297-68df-4356-92c3-e0209ad9fb7a
DTSTAMP:20260423T131904Z
DESCRIPTION:
DTSTART;TZID=America/Chicago:20220604T080000
DTEND;TZID=America/Chicago:20220607T160000
LOCATION:
SUMMARY:National CASA Conference
END:VEVENT
END:VCALENDAR
