BEGIN:VCALENDAR
VERSION:2.0
PRODID:-//casaofterrebonne.org//NONSGML kigkonsult.se iCalcreator 2.30.10//
CALSCALE:GREGORIAN
METHOD:PUBLISH
UID:90631538-5951-4b2d-ad11-0f3e989811e2
X-WR-CALDESC:
X-WR-RELCALID:5492611c7ef0ba211785adba027c8303
X-WR-TIMEZONE:America/Chicago
BEGIN:VTIMEZONE
TZID:America/Chicago
BEGIN:STANDARD
TZNAME:CST
DTSTART:20211107T020000
TZOFFSETFROM:-0500
TZOFFSETTO:-0600
RDATE:20221106T020000
RDATE:20231105T020000
END:STANDARD
BEGIN:DAYLIGHT
TZNAME:CDT
DTSTART:20220313T020000
TZOFFSETFROM:-0600
TZOFFSETTO:-0500
RDATE:20230312T020000
END:DAYLIGHT
END:VTIMEZONE
BEGIN:VEVENT
UID:1ad74193-0ee8-473c-acad-d00789ddba8a
DTSTAMP:20260423T115642Z
DESCRIPTION:
DTSTART;TZID=America/Chicago:20220530T000000
DTEND;TZID=America/Chicago:20220530T235900
LOCATION:
SUMMARY:OFFICE CLOSED-Memorial Day
END:VEVENT
END:VCALENDAR
