BEGIN:VCALENDAR
VERSION:2.0
PRODID:-//casaofterrebonne.org//NONSGML kigkonsult.se iCalcreator 2.30.10//
CALSCALE:GREGORIAN
METHOD:PUBLISH
UID:382500e8-fa5d-4f08-8978-a7205ae23f0c
X-WR-CALDESC:
X-WR-RELCALID:0f6fd582870bde994268d3f29dcf2711
X-WR-TIMEZONE:America/Chicago
BEGIN:VTIMEZONE
TZID:America/Chicago
BEGIN:STANDARD
TZNAME:CST
DTSTART:20211107T020000
TZOFFSETFROM:-0500
TZOFFSETTO:-0600
RDATE:20221106T020000
RDATE:20231105T020000
END:STANDARD
BEGIN:DAYLIGHT
TZNAME:CDT
DTSTART:20220313T020000
TZOFFSETFROM:-0600
TZOFFSETTO:-0500
RDATE:20230312T020000
END:DAYLIGHT
END:VTIMEZONE
BEGIN:VEVENT
UID:da0741af-1691-46d8-bcb3-49f7f8ce2086
DTSTAMP:20260423T115759Z
DESCRIPTION:
DTSTART;TZID=America/Chicago:20220524T173000
DTEND;TZID=America/Chicago:20220524T204500
LOCATION:
SUMMARY:Pre-Service Training #62
END:VEVENT
END:VCALENDAR
