BEGIN:VCALENDAR
VERSION:2.0
PRODID:-//casaofterrebonne.org//NONSGML kigkonsult.se iCalcreator 2.30.10//
CALSCALE:GREGORIAN
METHOD:PUBLISH
UID:a1971cf3-fcd4-4544-8ee1-22ae5fd2eb23
X-WR-CALDESC:Advocacy for Siblings in Care\nThursday May 19\, 2022\n1:00pm 
 – 2:30pm\n\nThis webinar will focus on the importance of sibling relations
 hips\, and how to advocate for those connections at each stage of a child 
 welfare case\, including placement\, visitation\, reunification\, and post
 -termination contact. Attendees will learn practice tips in advocating for
  support\, services and resources\, and how to navigate potential conflict
 s. Presenters will include perspectives from both the lived expertise\, as
  well as from the legal & trial perspective.
X-WR-RELCALID:34ad6033695400dcf496c4f2bab1d2d3
X-WR-TIMEZONE:America/Chicago
BEGIN:VTIMEZONE
TZID:America/Chicago
BEGIN:STANDARD
TZNAME:CST
DTSTART:20211107T020000
TZOFFSETFROM:-0500
TZOFFSETTO:-0600
RDATE:20221106T020000
RDATE:20231105T020000
END:STANDARD
BEGIN:DAYLIGHT
TZNAME:CDT
DTSTART:20220313T020000
TZOFFSETFROM:-0600
TZOFFSETTO:-0500
RDATE:20230312T020000
END:DAYLIGHT
END:VTIMEZONE
BEGIN:VEVENT
UID:e4d2c8d6-704f-4d01-b560-afb48dc5d364
DTSTAMP:20260423T113109Z
DESCRIPTION:Advocacy for Siblings in Care\nThursday May 19\, 2022\n1:00pm –
  2:30pm\n\nThis webinar will focus on the importance of sibling relationsh
 ips\, and how to advocate for those connections at each stage of a child w
 elfare case\, including placement\, visitation\, reunification\, and post-
 termination contact. Attendees will learn practice tips in advocating for 
 support\, services and resources\, and how to navigate potential conflicts
 . Presenters will include perspectives from both the lived expertise\, as 
 well as from the legal & trial perspective.
DTSTART;TZID=America/Chicago:20220519T130000
DTEND;TZID=America/Chicago:20220519T143000
LOCATION:CASA of Terrebonne Office 402 Canal Street\, Houma\, LA 70360
SUMMARY:Webinar
END:VEVENT
END:VCALENDAR
