BEGIN:VCALENDAR
VERSION:2.0
PRODID:-//casaofterrebonne.org//NONSGML kigkonsult.se iCalcreator 2.30.10//
CALSCALE:GREGORIAN
METHOD:PUBLISH
UID:a593e857-e41d-459c-b8e1-fa62e7b86adf
X-WR-CALDESC:Trust-Based Relational Intervention (TBRI) is an attachment-ba
 sed trauma-informed intervention that is designed to meet the complex need
 s of vulnerable children. Often\, children from hard places tend to retrea
 t from relationships with others as a form of fear or distrust. In TBRI®’s
  connecting principles\, the focus is to meet a child’s need for relations
 hips through awareness and playful engagement.
X-WR-RELCALID:731a6371272968bd69fb405980cf74e6
X-WR-TIMEZONE:America/Chicago
BEGIN:VTIMEZONE
TZID:America/Chicago
BEGIN:STANDARD
TZNAME:CST
DTSTART:20211107T020000
TZOFFSETFROM:-0500
TZOFFSETTO:-0600
RDATE:20221106T020000
RDATE:20231105T020000
END:STANDARD
BEGIN:DAYLIGHT
TZNAME:CDT
DTSTART:20220313T020000
TZOFFSETFROM:-0600
TZOFFSETTO:-0500
RDATE:20230312T020000
END:DAYLIGHT
END:VTIMEZONE
BEGIN:VEVENT
UID:d0670318-64e1-418e-adfa-ad16af3722f9
DTSTAMP:20260423T114726Z
DESCRIPTION:Trust-Based Relational Intervention (TBRI) is an attachment-bas
 ed trauma-informed intervention that is designed to meet the complex needs
  of vulnerable children. Often\, children from hard places tend to retreat
  from relationships with others as a form of fear or distrust. In TBRI®’s 
 connecting principles\, the focus is to meet a child’s need for relationsh
 ips through awareness and playful engagement.
DTSTART;TZID=America/Chicago:20220518T173000
DTEND;TZID=America/Chicago:20220518T204500
LOCATION:402 Canal Street\, Houma\, LA 70360
SUMMARY:TBRI: Connecting Principles
END:VEVENT
END:VCALENDAR
