BEGIN:VCALENDAR
VERSION:2.0
PRODID:-//casaofterrebonne.org//NONSGML kigkonsult.se iCalcreator 2.30.10//
CALSCALE:GREGORIAN
METHOD:PUBLISH
UID:c406ac08-ee49-4fdc-84cf-88426e89349b
X-WR-CALDESC:
X-WR-RELCALID:d475b4b1796237212c96572f718b57ff
X-WR-TIMEZONE:America/Chicago
BEGIN:VTIMEZONE
TZID:America/Chicago
BEGIN:STANDARD
TZNAME:CST
DTSTART:20211107T020000
TZOFFSETFROM:-0500
TZOFFSETTO:-0600
RDATE:20221106T020000
RDATE:20231105T020000
END:STANDARD
BEGIN:DAYLIGHT
TZNAME:CDT
DTSTART:20220313T020000
TZOFFSETFROM:-0600
TZOFFSETTO:-0500
RDATE:20230312T020000
END:DAYLIGHT
END:VTIMEZONE
BEGIN:VEVENT
UID:7b400b17-bf0c-4307-b9b6-1f4d3acee6cb
DTSTAMP:20260423T115448Z
DESCRIPTION:
DTSTART;TZID=America/Chicago:20220517T173000
DTEND;TZID=America/Chicago:20220517T204500
LOCATION:
SUMMARY:Pre-Service Training #62
END:VEVENT
END:VCALENDAR
