BEGIN:VCALENDAR
VERSION:2.0
PRODID:-//casaofterrebonne.org//NONSGML kigkonsult.se iCalcreator 2.30.10//
CALSCALE:GREGORIAN
METHOD:PUBLISH
UID:95aa935a-abcd-4547-a921-2c307a2b85b9
X-WR-CALDESC:
X-WR-RELCALID:34efd60d994bb53ef8a6557c30bee54d
X-WR-TIMEZONE:America/Chicago
BEGIN:VTIMEZONE
TZID:America/Chicago
BEGIN:STANDARD
TZNAME:CST
DTSTART:20211107T020000
TZOFFSETFROM:-0500
TZOFFSETTO:-0600
RDATE:20221106T020000
RDATE:20231105T020000
END:STANDARD
BEGIN:DAYLIGHT
TZNAME:CDT
DTSTART:20220313T020000
TZOFFSETFROM:-0600
TZOFFSETTO:-0500
RDATE:20230312T020000
END:DAYLIGHT
END:VTIMEZONE
BEGIN:VEVENT
UID:64f079b1-46f1-40c2-9880-e7cfd9746b1d
DTSTAMP:20260423T115712Z
DESCRIPTION:
DTSTART;TZID=America/Chicago:20220510T173000
DTEND;TZID=America/Chicago:20220510T204500
LOCATION:
SUMMARY:Pre-Service Training #62
END:VEVENT
END:VCALENDAR
