BEGIN:VCALENDAR
VERSION:2.0
PRODID:-//casaofterrebonne.org//NONSGML kigkonsult.se iCalcreator 2.30.10//
CALSCALE:GREGORIAN
METHOD:PUBLISH
UID:f31a8d7d-f8b6-4f3b-baa2-beca8776a796
X-WR-CALDESC:
X-WR-RELCALID:e46288cede55635fb7dbdd5df7731b58
X-WR-TIMEZONE:America/Chicago
BEGIN:VTIMEZONE
TZID:America/Chicago
BEGIN:STANDARD
TZNAME:CST
DTSTART:20211107T020000
TZOFFSETFROM:-0500
TZOFFSETTO:-0600
RDATE:20221106T020000
END:STANDARD
BEGIN:DAYLIGHT
TZNAME:CDT
DTSTART:20220313T020000
TZOFFSETFROM:-0600
TZOFFSETTO:-0500
RDATE:20230312T020000
END:DAYLIGHT
END:VTIMEZONE
BEGIN:VEVENT
UID:4f43a7e0-7fe8-42b2-9624-11e8cf18d9c3
DTSTAMP:20260423T115718Z
DESCRIPTION:
DTSTART;TZID=America/Chicago:20220503T173000
DTEND;TZID=America/Chicago:20220503T204500
LOCATION:
SUMMARY:Pre-Service Training #62
END:VEVENT
END:VCALENDAR
