BEGIN:VCALENDAR
VERSION:2.0
PRODID:-//casaofterrebonne.org//NONSGML kigkonsult.se iCalcreator 2.30.10//
CALSCALE:GREGORIAN
METHOD:PUBLISH
UID:af701a40-857c-4c1c-b677-3af37cda457c
X-WR-CALDESC:Spring has sprung and the time has come to celebrate YOU! Join
  us for the Annual Manuel Merlos Volunteer Crawfish Boil at the CASA of Te
 rrebonne office! We will be enjoying crawfish as a family this year at the
  CASA office!\n\nPlease let us know how many will be attending.
X-WR-RELCALID:f3f2d236a3682c6f59ed1f9e7492982c
X-WR-TIMEZONE:America/Chicago
BEGIN:VTIMEZONE
TZID:America/Chicago
BEGIN:STANDARD
TZNAME:CST
DTSTART:20211107T020000
TZOFFSETFROM:-0500
TZOFFSETTO:-0600
RDATE:20221106T020000
END:STANDARD
BEGIN:DAYLIGHT
TZNAME:CDT
DTSTART:20220313T020000
TZOFFSETFROM:-0600
TZOFFSETTO:-0500
RDATE:20230312T020000
END:DAYLIGHT
END:VTIMEZONE
BEGIN:VEVENT
UID:6dc0aa6b-4c52-4b4a-9b9c-75ff9dd9845d
DTSTAMP:20260423T101933Z
DESCRIPTION:Spring has sprung and the time has come to celebrate YOU! Join 
 us for the Annual Manuel Merlos Volunteer Crawfish Boil at the CASA of Ter
 rebonne office! We will be enjoying crawfish as a family this year at the 
 CASA office!\n\nPlease let us know how many will be attending.
DTSTART;TZID=America/Chicago:20220422T110000
DTEND;TZID=America/Chicago:20220422T150000
LOCATION:CASA of Terrebonne Office 402 Cana Street\, Houma\, LA 70360
SUMMARY:Volunteer Crawfish Boil
END:VEVENT
END:VCALENDAR
