BEGIN:VCALENDAR
VERSION:2.0
PRODID:-//casaofterrebonne.org//NONSGML kigkonsult.se iCalcreator 2.30.10//
CALSCALE:GREGORIAN
METHOD:PUBLISH
UID:8577cc1d-3303-4033-aa1b-29a5c5a6d05e
X-WR-CALDESC:
X-WR-RELCALID:b62039e8f386f65683a2a3c8d7bc8c78
X-WR-TIMEZONE:America/Chicago
BEGIN:VTIMEZONE
TZID:America/Chicago
BEGIN:STANDARD
TZNAME:CST
DTSTART:20211107T020000
TZOFFSETFROM:-0500
TZOFFSETTO:-0600
RDATE:20221106T020000
END:STANDARD
BEGIN:DAYLIGHT
TZNAME:CDT
DTSTART:20220313T020000
TZOFFSETFROM:-0600
TZOFFSETTO:-0500
RDATE:20230312T020000
END:DAYLIGHT
END:VTIMEZONE
BEGIN:VEVENT
UID:0d665da7-c24a-44aa-b755-20394244331b
DTSTAMP:20260423T101034Z
DESCRIPTION:
DTSTART;TZID=America/Chicago:20220419T173000
DTEND;TZID=America/Chicago:20220419T204500
LOCATION:
SUMMARY:Orientation Class #62
END:VEVENT
END:VCALENDAR
