BEGIN:VCALENDAR
VERSION:2.0
PRODID:-//casaofterrebonne.org//NONSGML kigkonsult.se iCalcreator 2.30.10//
CALSCALE:GREGORIAN
METHOD:PUBLISH
UID:e1b6b52b-755c-4e3b-b3fc-7e9d72ab8c5a
X-WR-CALDESC:Coffee with CASA Information Session \n\nThe mission of CASA o
 f Terrebonne\, Inc. is to provide trained community volunteers\, to advoca
 te for the best interests of abused and neglected children\, and to promot
 e community awareness about child abuse issues. Currently\, CASA of Terreb
 onne is serving over 50 children in foster care\, yet there are still over
  130 children we are unable to reach–we need passionate advocates to speak
  up for these children.\n\nInfo Sessions are the first step to becoming a 
 CASA\, and they are also helpful for learning more about our mission.\n\nT
 hese 1-hour sessions are designed to answer your questions about what it t
 akes to be a Court Appointed Special Advocates for children in foster care
  in Terrebonne Parish.\n\nIf you are interested in attending an Info Sessi
 on\, please click RSVP HERE and register for the session.\n\nType the numb
 er of person(s) who wish to attend. \n\nIf you have any further questions 
 please contact Sulma Reyes at sreyes@casaofterrebonne.org or 985-876-0250.
X-WR-RELCALID:30bf9698686aa8caec9defe921ddeb5a
X-WR-TIMEZONE:America/Chicago
BEGIN:VTIMEZONE
TZID:America/Chicago
BEGIN:STANDARD
TZNAME:CST
DTSTART:20211107T020000
TZOFFSETFROM:-0500
TZOFFSETTO:-0600
RDATE:20221106T020000
END:STANDARD
BEGIN:DAYLIGHT
TZNAME:CDT
DTSTART:20220313T020000
TZOFFSETFROM:-0600
TZOFFSETTO:-0500
RDATE:20230312T020000
END:DAYLIGHT
END:VTIMEZONE
BEGIN:VEVENT
UID:3267a496-048d-477f-9fec-cdbe14a3b9a8
DTSTAMP:20260423T100912Z
DESCRIPTION:Coffee with CASA Information Session \n\nThe mission of CASA of
  Terrebonne\, Inc. is to provide trained community volunteers\, to advocat
 e for the best interests of abused and neglected children\, and to promote
  community awareness about child abuse issues. Currently\, CASA of Terrebo
 nne is serving over 50 children in foster care\, yet there are still over 
 130 children we are unable to reach–we need passionate advocates to speak 
 up for these children.\n\nInfo Sessions are the first step to becoming a C
 ASA\, and they are also helpful for learning more about our mission.\n\nTh
 ese 1-hour sessions are designed to answer your questions about what it ta
 kes to be a Court Appointed Special Advocates for children in foster care 
 in Terrebonne Parish.\n\nIf you are interested in attending an Info Sessio
 n\, please click RSVP HERE and register for the session.\n\nType the numbe
 r of person(s) who wish to attend. \n\nIf you have any further questions p
 lease contact Sulma Reyes at sreyes@casaofterrebonne.org or 985-876-0250.
DTSTART;TZID=America/Chicago:20220413T173000
DTEND;TZID=America/Chicago:20220413T183000
LOCATION:300 Church Street\, Houma\, LA 70360 US
SUMMARY:Info Session
END:VEVENT
END:VCALENDAR
