BEGIN:VCALENDAR
VERSION:2.0
PRODID:-//casaofterrebonne.org//NONSGML kigkonsult.se iCalcreator 2.30.10//
CALSCALE:GREGORIAN
METHOD:PUBLISH
UID:89ead090-e04f-4cae-89cb-c86026503674
X-WR-CALDESC:
X-WR-RELCALID:ba0412244c63b8ec264d06c9c5a1e106
X-WR-TIMEZONE:America/Chicago
BEGIN:VTIMEZONE
TZID:America/Chicago
BEGIN:STANDARD
TZNAME:CST
DTSTART:20211107T020000
TZOFFSETFROM:-0500
TZOFFSETTO:-0600
RDATE:20221106T020000
END:STANDARD
BEGIN:DAYLIGHT
TZNAME:CDT
DTSTART:20220313T020000
TZOFFSETFROM:-0600
TZOFFSETTO:-0500
RDATE:20230312T020000
END:DAYLIGHT
END:VTIMEZONE
BEGIN:VEVENT
UID:622b59ff-bf19-4224-a79b-8692e837ba2d
DTSTAMP:20260423T101633Z
DESCRIPTION:
DTSTART;TZID=America/Chicago:20220411T000000
DTEND;TZID=America/Chicago:20220411T235900
LOCATION:
SUMMARY:OFFICE CLOSED- LA CASA Conference
END:VEVENT
END:VCALENDAR
