BEGIN:VCALENDAR
VERSION:2.0
PRODID:-//casaofterrebonne.org//NONSGML kigkonsult.se iCalcreator 2.30.10//
CALSCALE:GREGORIAN
METHOD:PUBLISH
UID:a59d9fae-0298-4dca-a2d2-f0cdcbf49387
X-WR-CALDESC:
X-WR-RELCALID:bbf8f10e0d0edfac7801bb8d59d13e8e
X-WR-TIMEZONE:America/Chicago
BEGIN:VTIMEZONE
TZID:America/Chicago
BEGIN:STANDARD
TZNAME:CST
DTSTART:20211107T020000
TZOFFSETFROM:-0500
TZOFFSETTO:-0600
RDATE:20221106T020000
END:STANDARD
BEGIN:DAYLIGHT
TZNAME:CDT
DTSTART:20220313T020000
TZOFFSETFROM:-0600
TZOFFSETTO:-0500
RDATE:20230312T020000
END:DAYLIGHT
END:VTIMEZONE
BEGIN:VEVENT
UID:9674083f-f7da-4358-b30f-9ea5bcdc651c
DTSTAMP:20260423T084540Z
DESCRIPTION:
DTSTART;TZID=America/Chicago:20220326T173000
DTEND;TZID=America/Chicago:20220326T220000
LOCATION:
SUMMARY:Bandit CASA Benefit Concert
END:VEVENT
END:VCALENDAR
