BEGIN:VCALENDAR
VERSION:2.0
PRODID:-//casaofterrebonne.org//NONSGML kigkonsult.se iCalcreator 2.30.10//
CALSCALE:GREGORIAN
METHOD:PUBLISH
UID:53567f44-bf46-455e-a68c-fb70194ecdcd
X-WR-CALDESC:Join us to learn more about  Family Preservation Court (FPC) a
 nd how their monitoring services and accountability assist families to reg
 ain custody of their children.  Valerie Cooper\, Coordinator of the 32nd J
 DC Family Preservation Court will be our presenter.
X-WR-RELCALID:3cadc82dbe178e8bfd3f56f5c1c80422
X-WR-TIMEZONE:America/Chicago
BEGIN:VTIMEZONE
TZID:America/Chicago
BEGIN:STANDARD
TZNAME:CST
DTSTART:20211107T020000
TZOFFSETFROM:-0500
TZOFFSETTO:-0600
RDATE:20221106T020000
END:STANDARD
BEGIN:DAYLIGHT
TZNAME:CDT
DTSTART:20220313T020000
TZOFFSETFROM:-0600
TZOFFSETTO:-0500
RDATE:20230312T020000
END:DAYLIGHT
END:VTIMEZONE
BEGIN:VEVENT
UID:a9108538-ac74-470a-8bcc-64b6c3ac6c83
DTSTAMP:20260423T084025Z
DESCRIPTION:Join us to learn more about  Family Preservation Court (FPC) an
 d how their monitoring services and accountability assist families to rega
 in custody of their children.  Valerie Cooper\, Coordinator of the 32nd JD
 C Family Preservation Court will be our presenter.
DTSTART;TZID=America/Chicago:20220323T120000
DTEND;TZID=America/Chicago:20220323T130000
LOCATION:CASA of Terrebonne Office 402 Cana Street\, Houma\, LA 70360
SUMMARY:Lunch & Learn
END:VEVENT
END:VCALENDAR
