BEGIN:VCALENDAR
VERSION:2.0
PRODID:-//casaofterrebonne.org//NONSGML kigkonsult.se iCalcreator 2.30.10//
CALSCALE:GREGORIAN
METHOD:PUBLISH
UID:fdeb1c77-c8ce-4363-b8c6-2d3302791057
X-WR-CALDESC:
X-WR-RELCALID:a635f839a0ee64501ae01e1207c80518
X-WR-TIMEZONE:America/Chicago
BEGIN:VTIMEZONE
TZID:America/Chicago
BEGIN:STANDARD
TZNAME:CST
DTSTART:20211107T020000
TZOFFSETFROM:-0500
TZOFFSETTO:-0600
RDATE:20221106T020000
END:STANDARD
BEGIN:DAYLIGHT
TZNAME:CDT
DTSTART:20210314T020000
TZOFFSETFROM:-0600
TZOFFSETTO:-0500
RDATE:20220313T020000
RDATE:20230312T020000
END:DAYLIGHT
END:VTIMEZONE
BEGIN:VEVENT
UID:18d134f9-1bbc-494a-949a-73f53ff99033
DTSTAMP:20260423T084340Z
DESCRIPTION:
DTSTART;TZID=America/Chicago:20220314T000000
DTEND;TZID=America/Chicago:20220314T235900
LOCATION:
SUMMARY:Heather's Birthday
END:VEVENT
END:VCALENDAR
