BEGIN:VCALENDAR
VERSION:2.0
PRODID:-//casaofterrebonne.org//NONSGML kigkonsult.se iCalcreator 2.30.10//
CALSCALE:GREGORIAN
METHOD:PUBLISH
UID:b40373a5-de87-4601-80be-67c7c15590f5
X-WR-CALDESC:
X-WR-RELCALID:358f74eb243d81616ae9b02dca81be8c
X-WR-TIMEZONE:America/Chicago
BEGIN:VTIMEZONE
TZID:America/Chicago
BEGIN:STANDARD
TZNAME:CST
DTSTART:20211107T020000
TZOFFSETFROM:-0500
TZOFFSETTO:-0600
RDATE:20221106T020000
END:STANDARD
BEGIN:DAYLIGHT
TZNAME:CDT
DTSTART:20210314T020000
TZOFFSETFROM:-0600
TZOFFSETTO:-0500
RDATE:20220313T020000
RDATE:20230312T020000
END:DAYLIGHT
END:VTIMEZONE
BEGIN:VEVENT
UID:23f5ee23-8ad9-465f-9228-51aa8e48ba3f
DTSTAMP:20260423T083357Z
DESCRIPTION:
DTSTART;TZID=America/Chicago:20220308T000000
DTEND;TZID=America/Chicago:20220308T235900
LOCATION:
SUMMARY:Jenny's Birthday
END:VEVENT
END:VCALENDAR
