BEGIN:VCALENDAR
VERSION:2.0
PRODID:-//casaofterrebonne.org//NONSGML kigkonsult.se iCalcreator 2.30.10//
CALSCALE:GREGORIAN
METHOD:PUBLISH
UID:8b2cd263-6c9e-4fa9-a638-d7e17d46b7f5
X-WR-CALDESC:
X-WR-RELCALID:12941cd2616b9b12d779397bc7227c4d
X-WR-TIMEZONE:America/Chicago
BEGIN:VTIMEZONE
TZID:America/Chicago
BEGIN:STANDARD
TZNAME:CST
DTSTART:20211107T020000
TZOFFSETFROM:-0500
TZOFFSETTO:-0600
RDATE:20221106T020000
END:STANDARD
BEGIN:DAYLIGHT
TZNAME:CDT
DTSTART:20210314T020000
TZOFFSETFROM:-0600
TZOFFSETTO:-0500
RDATE:20220313T020000
RDATE:20230312T020000
END:DAYLIGHT
END:VTIMEZONE
BEGIN:VEVENT
UID:43071a2b-9ae9-4c9a-9b79-aed533c72821
DTSTAMP:20260423T083247Z
DESCRIPTION:
DTSTART;TZID=America/Chicago:20220301T000000
DTEND;TZID=America/Chicago:20220301T235900
LOCATION:
SUMMARY:OFFICE CLOSED-Mardi Gras Day
END:VEVENT
END:VCALENDAR
