BEGIN:VCALENDAR
VERSION:2.0
PRODID:-//casaofterrebonne.org//NONSGML kigkonsult.se iCalcreator 2.30.10//
CALSCALE:GREGORIAN
METHOD:PUBLISH
UID:82863b06-5040-4c76-bd68-83b40d65f6f6
X-WR-CALDESC:
X-WR-RELCALID:aee526545af721ab7e6df1467a169637
X-WR-TIMEZONE:America/Chicago
BEGIN:VTIMEZONE
TZID:America/Chicago
BEGIN:STANDARD
TZNAME:CST
DTSTART:20211107T020000
TZOFFSETFROM:-0500
TZOFFSETTO:-0600
RDATE:20221106T020000
END:STANDARD
BEGIN:DAYLIGHT
TZNAME:CDT
DTSTART:20210314T020000
TZOFFSETFROM:-0600
TZOFFSETTO:-0500
RDATE:20220313T020000
RDATE:20230312T020000
END:DAYLIGHT
END:VTIMEZONE
BEGIN:VEVENT
UID:4df18c6d-3a46-431a-a940-f308f9ab1eb2
DTSTAMP:20260423T101218Z
DESCRIPTION:
DTSTART;TZID=America/Chicago:20220221T000000
DTEND;TZID=America/Chicago:20220221T235900
LOCATION:
SUMMARY:Holiday-Office Closed
END:VEVENT
END:VCALENDAR
