BEGIN:VCALENDAR
VERSION:2.0
PRODID:-//casaofterrebonne.org//NONSGML kigkonsult.se iCalcreator 2.30.10//
CALSCALE:GREGORIAN
METHOD:PUBLISH
UID:372d6d31-e786-4748-a732-fe487fa4fb13
X-WR-CALDESC:Trust-Based Relational Intervention (TBRI) is an attachment-ba
 sed trauma-informed intervention that is designed to meet the complex need
 s of vulnerable children. TBRI uses empowering principles to address physi
 cal needs\, connecting principles to address attachment needs\, and correc
 ting principles to disarm fear-based behaviors. This Introduction and Over
 view to TBRI will give you insight into this complex intervention tool.
X-WR-RELCALID:1d199b606298cbe4991506e345c55ca7
X-WR-TIMEZONE:America/Chicago
BEGIN:VTIMEZONE
TZID:America/Chicago
BEGIN:STANDARD
TZNAME:CST
DTSTART:20211107T020000
TZOFFSETFROM:-0500
TZOFFSETTO:-0600
RDATE:20221106T020000
END:STANDARD
BEGIN:DAYLIGHT
TZNAME:CDT
DTSTART:20210314T020000
TZOFFSETFROM:-0600
TZOFFSETTO:-0500
RDATE:20220313T020000
RDATE:20230312T020000
END:DAYLIGHT
END:VTIMEZONE
BEGIN:VEVENT
UID:977d8fbb-8ec9-4b36-a01d-b3ed9becb718
DTSTAMP:20260423T101616Z
DESCRIPTION:Trust-Based Relational Intervention (TBRI) is an attachment-bas
 ed trauma-informed intervention that is designed to meet the complex needs
  of vulnerable children. TBRI uses empowering principles to address physic
 al needs\, connecting principles to address attachment needs\, and correct
 ing principles to disarm fear-based behaviors. This Introduction and Overv
 iew to TBRI will give you insight into this complex intervention tool.
DTSTART;TZID=America/Chicago:20220216T173000
DTEND;TZID=America/Chicago:20220216T204500
LOCATION:402 Canal Street\, Houma\, LA 70360
SUMMARY:TBRI: Intro & Overview
END:VEVENT
END:VCALENDAR
