BEGIN:VCALENDAR
VERSION:2.0
PRODID:-//casaofterrebonne.org//NONSGML kigkonsult.se iCalcreator 2.30.10//
CALSCALE:GREGORIAN
METHOD:PUBLISH
UID:9f6a2f6f-e227-4be8-8713-d8fabd00a5c6
X-WR-CALDESC:
X-WR-RELCALID:d8f5060c839b18686a6884a724acac29
X-WR-TIMEZONE:America/Chicago
BEGIN:VTIMEZONE
TZID:America/Chicago
BEGIN:STANDARD
TZNAME:CST
DTSTART:20211107T020000
TZOFFSETFROM:-0500
TZOFFSETTO:-0600
RDATE:20221106T020000
END:STANDARD
BEGIN:DAYLIGHT
TZNAME:CDT
DTSTART:20210314T020000
TZOFFSETFROM:-0600
TZOFFSETTO:-0500
RDATE:20220313T020000
RDATE:20230312T020000
END:DAYLIGHT
END:VTIMEZONE
BEGIN:VEVENT
UID:c903c809-a0c0-4e5a-982e-80ef0d009a37
DTSTAMP:20260423T101250Z
DESCRIPTION:
DTSTART;TZID=America/Chicago:20220215T173000
DTEND;TZID=America/Chicago:20220215T204500
LOCATION:
SUMMARY:Pre-Service Training Session
END:VEVENT
END:VCALENDAR
