BEGIN:VCALENDAR
VERSION:2.0
PRODID:-//casaofterrebonne.org//NONSGML kigkonsult.se iCalcreator 2.30.10//
CALSCALE:GREGORIAN
METHOD:PUBLISH
UID:088456d1-b8bf-49a3-899a-fe81294efdb2
X-WR-CALDESC:
X-WR-RELCALID:14ecab34bf931fd1dd1af2fa44935941
X-WR-TIMEZONE:America/Chicago
BEGIN:VTIMEZONE
TZID:America/Chicago
BEGIN:STANDARD
TZNAME:CST
DTSTART:20211107T020000
TZOFFSETFROM:-0500
TZOFFSETTO:-0600
RDATE:20221106T020000
END:STANDARD
BEGIN:DAYLIGHT
TZNAME:CDT
DTSTART:20210314T020000
TZOFFSETFROM:-0600
TZOFFSETTO:-0500
RDATE:20220313T020000
RDATE:20230312T020000
END:DAYLIGHT
END:VTIMEZONE
BEGIN:VEVENT
UID:ad0ccb66-58b1-483c-b1f1-8988d1caff06
DTSTAMP:20260423T101206Z
DESCRIPTION:
DTSTART;TZID=America/Chicago:20220208T173000
DTEND;TZID=America/Chicago:20220208T204500
LOCATION:
SUMMARY:Pre-Service Training Session
END:VEVENT
END:VCALENDAR
