BEGIN:VCALENDAR
VERSION:2.0
PRODID:-//casaofterrebonne.org//NONSGML kigkonsult.se iCalcreator 2.30.10//
CALSCALE:GREGORIAN
METHOD:PUBLISH
UID:154c5822-555e-41af-b176-9e7270cc0b1c
X-WR-CALDESC:
X-WR-RELCALID:8af2b977bd11b43166e32f3d424df95d
X-WR-TIMEZONE:America/Chicago
BEGIN:VTIMEZONE
TZID:America/Chicago
BEGIN:STANDARD
TZNAME:CST
DTSTART:20211107T020000
TZOFFSETFROM:-0500
TZOFFSETTO:-0600
RDATE:20221106T020000
END:STANDARD
BEGIN:DAYLIGHT
TZNAME:CDT
DTSTART:20210314T020000
TZOFFSETFROM:-0600
TZOFFSETTO:-0500
RDATE:20220313T020000
RDATE:20230312T020000
END:DAYLIGHT
END:VTIMEZONE
BEGIN:VEVENT
UID:198bb684-a239-47ce-b838-3c66d2498820
DTSTAMP:20260423T114348Z
DESCRIPTION:
DTSTART;TZID=America/Chicago:20220125T173000
DTEND;TZID=America/Chicago:20220125T204500
LOCATION:
SUMMARY:Pre-Service Training Session
END:VEVENT
END:VCALENDAR
