BEGIN:VCALENDAR
VERSION:2.0
PRODID:-//casaofterrebonne.org//NONSGML kigkonsult.se iCalcreator 2.30.10//
CALSCALE:GREGORIAN
METHOD:PUBLISH
UID:838e5625-1de5-40af-ab07-49f6cc9d0482
X-WR-CALDESC:In-Service: Lunch & Learn\nLunch with DCFS: Procedures and Exp
 ectations - Erin Jackson. DCFS Social Worker\nThursday * January 20\, 2022
  * 12 Noon – 1:00 pm (1 Credit Hour)\nTopics will include: The process of 
 assigning foster parents to cases. Expectations of what foster parent’s ro
 le should include. Options for placements that are available in Terrebonne
  Parish\, as well as outside of parish placements. COVID and new procedure
 s. How can CASA’s be most helpful to DCFS and the CINC process? What can C
 ASA’s do if they are having a hard time reaching the caseworker? What are 
 DCFS expectations of CASA?
X-WR-RELCALID:6cd2a37d4b96ba190c5431a8a649d849
X-WR-TIMEZONE:America/Chicago
BEGIN:VTIMEZONE
TZID:America/Chicago
BEGIN:STANDARD
TZNAME:CST
DTSTART:20211107T020000
TZOFFSETFROM:-0500
TZOFFSETTO:-0600
RDATE:20221106T020000
END:STANDARD
BEGIN:DAYLIGHT
TZNAME:CDT
DTSTART:20210314T020000
TZOFFSETFROM:-0600
TZOFFSETTO:-0500
RDATE:20220313T020000
RDATE:20230312T020000
END:DAYLIGHT
END:VTIMEZONE
BEGIN:VEVENT
UID:e795da49-ebb2-4131-add9-411fcb0b5676
DTSTAMP:20260423T113349Z
DESCRIPTION:In-Service: Lunch & Learn\nLunch with DCFS: Procedures and Expe
 ctations - Erin Jackson. DCFS Social Worker\nThursday * January 20\, 2022 
 * 12 Noon – 1:00 pm (1 Credit Hour)\nTopics will include: The process of a
 ssigning foster parents to cases. Expectations of what foster parent’s rol
 e should include. Options for placements that are available in Terrebonne 
 Parish\, as well as outside of parish placements. COVID and new procedures
 . How can CASA’s be most helpful to DCFS and the CINC process? What can CA
 SA’s do if they are having a hard time reaching the caseworker? What are D
 CFS expectations of CASA?
DTSTART;TZID=America/Chicago:20220120T120000
DTEND;TZID=America/Chicago:20220120T130000
LOCATION:402 Canal Street\, Houma\, LA 70360
SUMMARY:Lunch & Learn
END:VEVENT
END:VCALENDAR
