BEGIN:VCALENDAR
VERSION:2.0
PRODID:-//casaofterrebonne.org//NONSGML kigkonsult.se iCalcreator 2.30.10//
CALSCALE:GREGORIAN
METHOD:PUBLISH
UID:35d689a0-28a4-45c6-a726-046ebca4d50a
X-WR-CALDESC:
X-WR-RELCALID:7a10dd20f130b4d2c824d7dc5c04ea46
X-WR-TIMEZONE:America/Chicago
BEGIN:VTIMEZONE
TZID:America/Chicago
BEGIN:STANDARD
TZNAME:CST
DTSTART:20211107T020000
TZOFFSETFROM:-0500
TZOFFSETTO:-0600
RDATE:20221106T020000
END:STANDARD
BEGIN:DAYLIGHT
TZNAME:CDT
DTSTART:20210314T020000
TZOFFSETFROM:-0600
TZOFFSETTO:-0500
RDATE:20220313T020000
RDATE:20230312T020000
END:DAYLIGHT
END:VTIMEZONE
BEGIN:VEVENT
UID:e2184ba1-1263-44b5-a0d9-2ac3e7987e5e
DTSTAMP:20260423T113441Z
DESCRIPTION:
DTSTART;TZID=America/Chicago:20220118T173000
DTEND;TZID=America/Chicago:20220118T183000
LOCATION:
SUMMARY:Orientation Class #61
END:VEVENT
END:VCALENDAR
