BEGIN:VCALENDAR
VERSION:2.0
PRODID:-//casaofterrebonne.org//NONSGML kigkonsult.se iCalcreator 2.30.10//
CALSCALE:GREGORIAN
METHOD:PUBLISH
UID:457f7776-d255-4628-9b81-a03051c44650
X-WR-CALDESC:Come and celebrate Christmas with us with a cookie exchange.\n
 Wear your tackiest Christmas Sweater and bake your tastiest treat\nand joi
 n in on the fun reindeer games!\n\nEveryone is responsible for bringing th
 eir favorite cookies or bars. We will let you know how many cookies you wi
 ll need to prepare the week of the event.
X-WR-RELCALID:ee9092957626d8779cc49f4be8ce46e3
X-WR-TIMEZONE:America/Chicago
BEGIN:VTIMEZONE
TZID:America/Chicago
BEGIN:STANDARD
TZNAME:CST
DTSTART:20211107T020000
TZOFFSETFROM:-0500
TZOFFSETTO:-0600
RDATE:20221106T020000
END:STANDARD
BEGIN:DAYLIGHT
TZNAME:CDT
DTSTART:20210314T020000
TZOFFSETFROM:-0600
TZOFFSETTO:-0500
RDATE:20220313T020000
RDATE:20230312T020000
END:DAYLIGHT
END:VTIMEZONE
BEGIN:VEVENT
UID:5a9c42f7-5946-4daa-ad05-2c296edd2ac5
DTSTAMP:20260423T131602Z
DESCRIPTION:Come and celebrate Christmas with us with a cookie exchange.\nW
 ear your tackiest Christmas Sweater and bake your tastiest treat\nand join
  in on the fun reindeer games!\n\nEveryone is responsible for bringing the
 ir favorite cookies or bars. We will let you know how many cookies you wil
 l need to prepare the week of the event.
DTSTART;TZID=America/Chicago:20211217T133000
DTEND;TZID=America/Chicago:20211217T150000
LOCATION:402 Canal Street\, Houma\, LA 70360
SUMMARY:Cookie Exchange
END:VEVENT
END:VCALENDAR
