BEGIN:VCALENDAR
VERSION:2.0
PRODID:-//casaofterrebonne.org//NONSGML kigkonsult.se iCalcreator 2.30.10//
CALSCALE:GREGORIAN
METHOD:PUBLISH
UID:a2780e59-eded-473a-b314-40803bb039c5
X-WR-CALDESC:You will be given a brief introduction to the Behavioral Healt
 h Unit at Chabert Medical Center and the focus on addiction treatment\, cu
 rrent medical practice\, behavioral therapies\, and outpatient placement. 
 The in-service will focus on the current relationship with the Family Pres
 ervation Court program and the coordination of care for acute detox needs 
 and a brief educational focus on current modalities for substance abuse tr
 eatment.\n\nEducation will be provided by:\nSarah Hensley BSN\, RN\nOchsne
 r Regional Director of Behavioral Health\nand \nDarrel Prestenbach Nurse P
 ractitioner \nBehavioral Health Unit \nChabert Medical Center
X-WR-RELCALID:9a39f26a9c5ebb5d5a5cd709107397f4
X-WR-TIMEZONE:America/Chicago
BEGIN:VTIMEZONE
TZID:America/Chicago
BEGIN:STANDARD
TZNAME:CST
DTSTART:20201101T020000
TZOFFSETFROM:-0500
TZOFFSETTO:-0600
RDATE:20211107T020000
RDATE:20221106T020000
END:STANDARD
BEGIN:DAYLIGHT
TZNAME:CDT
DTSTART:20210314T020000
TZOFFSETFROM:-0600
TZOFFSETTO:-0500
RDATE:20220313T020000
END:DAYLIGHT
END:VTIMEZONE
BEGIN:VEVENT
UID:ece316a7-b366-465a-b572-c12ee367fc92
DTSTAMP:20260423T192851Z
DESCRIPTION:You will be given a brief introduction to the Behavioral Health
  Unit at Chabert Medical Center and the focus on addiction treatment\, cur
 rent medical practice\, behavioral therapies\, and outpatient placement. T
 he in-service will focus on the current relationship with the Family Prese
 rvation Court program and the coordination of care for acute detox needs a
 nd a brief educational focus on current modalities for substance abuse tre
 atment.\n\nEducation will be provided by:\nSarah Hensley BSN\, RN\nOchsner
  Regional Director of Behavioral Health\nand \nDarrel Prestenbach Nurse Pr
 actitioner \nBehavioral Health Unit \nChabert Medical Center
DTSTART;TZID=America/Chicago:20210826T120000
DTEND;TZID=America/Chicago:20210826T130000
LOCATION:402 Canal Street\, Houma\, LA 70360
SUMMARY:Lunch & Learn
END:VEVENT
END:VCALENDAR
