BEGIN:VCALENDAR
VERSION:2.0
PRODID:-//casaofterrebonne.org//NONSGML kigkonsult.se iCalcreator 2.30.10//
CALSCALE:GREGORIAN
METHOD:PUBLISH
UID:bd47c277-9e85-43e9-9580-45332d34e7b5
X-WR-CALDESC:In the fourth and final installment of our TBRI® In-service tr
 aining series\, Jenny Domangue will present the TBRI®  Correcting Principl
 es which aim to address a child’s behavioral issues in a positive way. \n
 \nTwo important principles in the correcting component are proactive and r
 esponsive behavioral strategies. Although CASA advocates are advised not t
 o use these Principles with their CASA children\, they can still use the i
 nformation in their own lives and have a full understanding of the TBRI® m
 odel.
X-WR-RELCALID:e2167a057bbc645002b07fc96f3958b6
X-WR-TIMEZONE:America/Chicago
BEGIN:VTIMEZONE
TZID:America/Chicago
BEGIN:STANDARD
TZNAME:CST
DTSTART:20201101T020000
TZOFFSETFROM:-0500
TZOFFSETTO:-0600
RDATE:20211107T020000
RDATE:20221106T020000
END:STANDARD
BEGIN:DAYLIGHT
TZNAME:CDT
DTSTART:20210314T020000
TZOFFSETFROM:-0600
TZOFFSETTO:-0500
RDATE:20220313T020000
END:DAYLIGHT
END:VTIMEZONE
BEGIN:VEVENT
UID:bc4aed8c-e3bc-4d62-b10f-3f365aa21405
DTSTAMP:20260423T193203Z
DESCRIPTION:In the fourth and final installment of our TBRI® In-service tra
 ining series\, Jenny Domangue will present the TBRI®  Correcting Principle
 s which aim to address a child’s behavioral issues in a positive way. \n\n
 Two important principles in the correcting component are proactive and res
 ponsive behavioral strategies. Although CASA advocates are advised not to 
 use these Principles with their CASA children\, they can still use the inf
 ormation in their own lives and have a full understanding of the TBRI® mod
 el.
DTSTART;TZID=America/Chicago:20210819T173000
DTEND;TZID=America/Chicago:20210819T204500
LOCATION:402 Canal Street\, Houma\, LA 70360
SUMMARY:TBRI: Correcting Principles
END:VEVENT
END:VCALENDAR
