BEGIN:VCALENDAR
VERSION:2.0
PRODID:-//casaofterrebonne.org//NONSGML kigkonsult.se iCalcreator 2.30.10//
CALSCALE:GREGORIAN
METHOD:PUBLISH
UID:6309c2f2-b9d9-4869-8131-2d42d767eff6
X-WR-CALDESC:In the third installment of our TBRI In-service training serie
 s\, Jenny Domangue will present the TBRI® Empowering Principle. In the TBR
 I® model\, this term describes the attention to addressing the physical ne
 eds of a child and their felt safety. Empowering principles help children 
 learn important skills like self-regulation.
X-WR-RELCALID:b25b3ad0a73e1efa07ba7421e7ef8576
X-WR-TIMEZONE:America/Chicago
BEGIN:VTIMEZONE
TZID:America/Chicago
BEGIN:STANDARD
TZNAME:CST
DTSTART:20201101T020000
TZOFFSETFROM:-0500
TZOFFSETTO:-0600
RDATE:20211107T020000
RDATE:20221106T020000
END:STANDARD
BEGIN:DAYLIGHT
TZNAME:CDT
DTSTART:20210314T020000
TZOFFSETFROM:-0600
TZOFFSETTO:-0500
RDATE:20220313T020000
END:DAYLIGHT
END:VTIMEZONE
BEGIN:VEVENT
UID:df7dc863-0355-4248-9fe5-864b1b4b60c5
DTSTAMP:20260423T205610Z
DESCRIPTION:In the third installment of our TBRI In-service training series
 \, Jenny Domangue will present the TBRI® Empowering Principle. In the TBRI
 ® model\, this term describes the attention to addressing the physical nee
 ds of a child and their felt safety. Empowering principles help children l
 earn important skills like self-regulation.
DTSTART;TZID=America/Chicago:20210722T173000
DTEND;TZID=America/Chicago:20210722T204500
LOCATION:402 Canal Street\, Houma\, LA 70360
SUMMARY:TBRI: Empowering Principle
END:VEVENT
END:VCALENDAR
