BEGIN:VCALENDAR
VERSION:2.0
PRODID:-//casaofterrebonne.org//NONSGML kigkonsult.se iCalcreator 2.30.10//
CALSCALE:GREGORIAN
METHOD:PUBLISH
UID:209a46b5-f414-4e36-a824-ca9c07c32ef9
X-WR-CALDESC:VOLUNTEER INFO SESSION\n\nThe mission of CASA of Terrebonne\, 
 Inc. is to provide trained community volunteers to advocate for the best i
 nterests of abused and neglected children and promote community awareness 
 about child abuse issues. Currently\, CASA of Terrebonne is serving over 7
 0 children in foster care\, yet there are still over 130 children we are u
 nable to reach–we need passionate advocates to speak up for these children
 .\n\nInfo Sessions are the first step to becoming a CASA\, and they are al
 so helpful for learning more about our mission.\n\nThese 1-hour sessions a
 re designed to answer your questions about what it takes to be a Court App
 ointed Special Advocates for children in foster care in Terrebonne Parish.
 \n\nIf you are interested in attending an Info Session\, please click RESE
 RVE YOUR SPOT and register for the session.\n\nPlease be sure to type the 
 number of the person(s) who wish to attend.\n\nIf you have any further que
 stions please contact Sulma Reyes at sreyes@casaofterrebonne.org or 985-87
 6-0250.\n\n*PLEASE NOTE: IF INTERESTED IN ATTENDING A SESSION\, PLEASE RSV
 P BY CLICKING THE LINK\n'RESERVE YOUR SPOT' ABOVE.\nIf you are having trou
 ble please call 985.876.0250.
X-WR-RELCALID:4eaf54a5e9fd8c5db954b557afb0e19c
X-WR-TIMEZONE:America/Chicago
BEGIN:VTIMEZONE
TZID:America/Chicago
BEGIN:STANDARD
TZNAME:CST
DTSTART:20201101T020000
TZOFFSETFROM:-0500
TZOFFSETTO:-0600
RDATE:20211107T020000
RDATE:20221106T020000
END:STANDARD
BEGIN:DAYLIGHT
TZNAME:CDT
DTSTART:20210314T020000
TZOFFSETFROM:-0600
TZOFFSETTO:-0500
RDATE:20220313T020000
END:DAYLIGHT
END:VTIMEZONE
BEGIN:VEVENT
UID:9048343c-6ddc-4fc5-85a5-ea25bee0b016
DTSTAMP:20260423T205738Z
DESCRIPTION:VOLUNTEER INFO SESSION\n\nThe mission of CASA of Terrebonne\, I
 nc. is to provide trained community volunteers to advocate for the best in
 terests of abused and neglected children and promote community awareness a
 bout child abuse issues. Currently\, CASA of Terrebonne is serving over 70
  children in foster care\, yet there are still over 130 children we are un
 able to reach–we need passionate advocates to speak up for these children.
 \n\nInfo Sessions are the first step to becoming a CASA\, and they are als
 o helpful for learning more about our mission.\n\nThese 1-hour sessions ar
 e designed to answer your questions about what it takes to be a Court Appo
 inted Special Advocates for children in foster care in Terrebonne Parish.
 \n\nIf you are interested in attending an Info Session\, please click RESE
 RVE YOUR SPOT and register for the session.\n\nPlease be sure to type the 
 number of the person(s) who wish to attend.\n\nIf you have any further que
 stions please contact Sulma Reyes at sreyes@casaofterrebonne.org or 985-87
 6-0250.\n\n*PLEASE NOTE: IF INTERESTED IN ATTENDING A SESSION\, PLEASE RSV
 P BY CLICKING THE LINK\n'RESERVE YOUR SPOT' ABOVE.\nIf you are having trou
 ble please call 985.876.0250.
DTSTART;TZID=America/Chicago:20210706T173000
DTEND;TZID=America/Chicago:20210706T183000
LOCATION:402 Canal Street\, Houma\, LA 70360
SUMMARY:Information Session
END:VEVENT
END:VCALENDAR
