BEGIN:VCALENDAR
VERSION:2.0
PRODID:-//casaofterrebonne.org//NONSGML kigkonsult.se iCalcreator 2.30.10//
CALSCALE:GREGORIAN
METHOD:PUBLISH
UID:ea284d07-a946-416d-82c6-2a34d305b27d
X-WR-CALDESC:In honor of Pride Month\, CASA of Terrebonne will host a Lunch
  and Learn where guest speaker Blaine Grandin will educate us on how to be
 st serve the foster children who identify with the LBGTQ+ community. Blain
 e will discuss pronouns\, resources\, and how to best advocate and support
  our CASA children as they are finding their identity.
X-WR-RELCALID:893b1b8b81e4a549eb9e13bedc892a44
X-WR-TIMEZONE:America/Chicago
BEGIN:VTIMEZONE
TZID:America/Chicago
BEGIN:STANDARD
TZNAME:CST
DTSTART:20201101T020000
TZOFFSETFROM:-0500
TZOFFSETTO:-0600
RDATE:20211107T020000
RDATE:20221106T020000
END:STANDARD
BEGIN:DAYLIGHT
TZNAME:CDT
DTSTART:20210314T020000
TZOFFSETFROM:-0600
TZOFFSETTO:-0500
RDATE:20220313T020000
END:DAYLIGHT
END:VTIMEZONE
BEGIN:VEVENT
UID:924e4b85-70d3-4e34-b7cf-75b3a317cdd3
DTSTAMP:20260423T222715Z
DESCRIPTION:In honor of Pride Month\, CASA of Terrebonne will host a Lunch 
 and Learn where guest speaker Blaine Grandin will educate us on how to bes
 t serve the foster children who identify with the LBGTQ+ community. Blaine
  will discuss pronouns\, resources\, and how to best advocate and support 
 our CASA children as they are finding their identity.
DTSTART;TZID=America/Chicago:20210624T000000
DTEND;TZID=America/Chicago:20210624T010000
LOCATION:402 Canal Street\, Houma\, LA 70360
SUMMARY:Lunch & Learn
END:VEVENT
END:VCALENDAR
