BEGIN:VCALENDAR
VERSION:2.0
PRODID:-//casaofterrebonne.org//NONSGML kigkonsult.se iCalcreator 2.30.10//
CALSCALE:GREGORIAN
METHOD:PUBLISH
UID:f03743ea-9a98-4bf3-bf40-4ff4b26c894a
X-WR-CALDESC:TOPIC:\nAdolescent Brain Science: What is it & How Can it be E
 ffectively Used to Advocate for & Engage Youth.\n\nLOCATION: CASA of Terre
 bonne\, 402 Canal St. Houma\, LA. \nthrough Zoom in the training room.\n\n
 TIME: 12 - 1:30 PM\n\nThis webinar will provide attendees with significant
  findings on how the adolescent brain develops\, including a brief overvie
 w of the structure of the brain. The presenters will cover the three major
  aspects of the brain that are particularly active and change throughout a
 dolescence: regulation\, relationships\, and rewards. Attendees will learn
  how to apply this information to working with youth to both promote and a
 dvocate for healthy brain development\, as well as authentically engage th
 em in their case plans. The presenters will also share practical tips to i
 ntegrate adolescent brain science into their advocacy and framing of their
  client’s narrative to the court. \n\nPresenters: \nCristal Ramirez\, MS 
 \nAshley Ratliff\, JD\, MSW \n\n\nLunch will be provided.\n
X-WR-RELCALID:306eed2b8748b81e3431072518e6ab7d
X-WR-TIMEZONE:America/Chicago
BEGIN:VTIMEZONE
TZID:America/Chicago
BEGIN:STANDARD
TZNAME:CST
DTSTART:20201101T020000
TZOFFSETFROM:-0500
TZOFFSETTO:-0600
RDATE:20211107T020000
RDATE:20221106T020000
END:STANDARD
BEGIN:DAYLIGHT
TZNAME:CDT
DTSTART:20210314T020000
TZOFFSETFROM:-0600
TZOFFSETTO:-0500
RDATE:20220313T020000
END:DAYLIGHT
END:VTIMEZONE
BEGIN:VEVENT
UID:4e451a2b-f8cf-4c99-b96b-e1770e1bf44a
DTSTAMP:20260423T235530Z
DESCRIPTION:TOPIC:\nAdolescent Brain Science: What is it & How Can it be Ef
 fectively Used to Advocate for & Engage Youth.\n\nLOCATION: CASA of Terreb
 onne\, 402 Canal St. Houma\, LA. \nthrough Zoom in the training room.\n\nT
 IME: 12 - 1:30 PM\n\nThis webinar will provide attendees with significant 
 findings on how the adolescent brain develops\, including a brief overview
  of the structure of the brain. The presenters will cover the three major 
 aspects of the brain that are particularly active and change throughout ad
 olescence: regulation\, relationships\, and rewards. Attendees will learn 
 how to apply this information to working with youth to both promote and ad
 vocate for healthy brain development\, as well as authentically engage the
 m in their case plans. The presenters will also share practical tips to in
 tegrate adolescent brain science into their advocacy and framing of their 
 client’s narrative to the court. \n\nPresenters: \nCristal Ramirez\, MS \n
 Ashley Ratliff\, JD\, MSW \n\n\nLunch will be provided.\n
DTSTART;TZID=America/Chicago:20210521T120000
DTEND;TZID=America/Chicago:20210521T133000
LOCATION:402 Canal Street\, Houma\, LA 70360
SUMMARY:Lunch & Learn
END:VEVENT
END:VCALENDAR
