BEGIN:VCALENDAR
VERSION:2.0
PRODID:-//casaofterrebonne.org//NONSGML kigkonsult.se iCalcreator 2.30.10//
CALSCALE:GREGORIAN
METHOD:PUBLISH
UID:efec9567-d1d8-4494-a2cf-dccd1fb85342
X-WR-CALDESC:
X-WR-RELCALID:74e75a5b9429609f06c2c50b76d99705
X-WR-TIMEZONE:America/Chicago
BEGIN:VTIMEZONE
TZID:America/Chicago
BEGIN:STANDARD
TZNAME:CST
DTSTART:20201101T020000
TZOFFSETFROM:-0500
TZOFFSETTO:-0600
RDATE:20211107T020000
RDATE:20221106T020000
END:STANDARD
BEGIN:DAYLIGHT
TZNAME:CDT
DTSTART:20210314T020000
TZOFFSETFROM:-0600
TZOFFSETTO:-0500
RDATE:20220313T020000
END:DAYLIGHT
END:VTIMEZONE
BEGIN:VEVENT
UID:89a09d8c-a7d2-4ea9-8fb8-2d10f78c242d
DTSTAMP:20260424T001556Z
DESCRIPTION:
DTSTART;TZID=America/Chicago:20210520T170000
DTEND;TZID=America/Chicago:20210520T180000
LOCATION:
SUMMARY:Board Meeting
END:VEVENT
END:VCALENDAR
