BEGIN:VCALENDAR
VERSION:2.0
PRODID:-//casaofterrebonne.org//NONSGML kigkonsult.se iCalcreator 2.30.10//
CALSCALE:GREGORIAN
METHOD:PUBLISH
UID:674bb5ec-eca9-457a-9801-d693ad8b1d4a
X-WR-CALDESC:
X-WR-RELCALID:d25b9e0f7afa1d0afbc5178c18894460
X-WR-TIMEZONE:America/Chicago
BEGIN:VTIMEZONE
TZID:America/Chicago
BEGIN:STANDARD
TZNAME:CST
DTSTART:20201101T020000
TZOFFSETFROM:-0500
TZOFFSETTO:-0600
RDATE:20211107T020000
RDATE:20221106T020000
END:STANDARD
BEGIN:DAYLIGHT
TZNAME:CDT
DTSTART:20210314T020000
TZOFFSETFROM:-0600
TZOFFSETTO:-0500
RDATE:20220313T020000
END:DAYLIGHT
END:VTIMEZONE
BEGIN:VEVENT
UID:0b758200-4714-4327-82a8-53ad866201d6
DTSTAMP:20260424T000829Z
DESCRIPTION:
DTSTART;TZID=America/Chicago:20210515T000000
DTEND;TZID=America/Chicago:20210515T235900
LOCATION:
SUMMARY:HOIT Gold Tournament
END:VEVENT
END:VCALENDAR
