BEGIN:VCALENDAR
VERSION:2.0
PRODID:-//casaofterrebonne.org//NONSGML kigkonsult.se iCalcreator 2.30.10//
CALSCALE:GREGORIAN
METHOD:PUBLISH
UID:68793fcd-fc1b-4173-bbfb-6db5dfdfe389
X-WR-CALDESC:Join us in Judge Arceneaux’s courtroom for an introduction to 
 Family Preservation Court. This is a new and compelling program available 
 in Terrebonne parish that is designed to help families with substance use 
 disorders get the treatment and support that they need to get their childr
 en out of foster care sooner or avoid foster care altogether. It is an int
 ensive treatment plan based loosely on drug court but with a focus on the 
 family unit.  We will hear from Judge Arceneaux\, ADA Ellen Doskey\, and V
 alerie Cooper.
X-WR-RELCALID:9ea46905c06bb88cce1e11d5ff6bc24a
X-WR-TIMEZONE:America/Chicago
BEGIN:VTIMEZONE
TZID:America/Chicago
BEGIN:STANDARD
TZNAME:CST
DTSTART:20201101T020000
TZOFFSETFROM:-0500
TZOFFSETTO:-0600
RDATE:20211107T020000
RDATE:20221106T020000
END:STANDARD
BEGIN:DAYLIGHT
TZNAME:CDT
DTSTART:20210314T020000
TZOFFSETFROM:-0600
TZOFFSETTO:-0500
RDATE:20220313T020000
END:DAYLIGHT
END:VTIMEZONE
BEGIN:VEVENT
UID:c37ed947-0405-47b7-933c-c2adec3bb1d4
DTSTAMP:20260423T235940Z
DESCRIPTION:Join us in Judge Arceneaux’s courtroom for an introduction to F
 amily Preservation Court. This is a new and compelling program available i
 n Terrebonne parish that is designed to help families with substance use d
 isorders get the treatment and support that they need to get their childre
 n out of foster care sooner or avoid foster care altogether. It is an inte
 nsive treatment plan based loosely on drug court but with a focus on the f
 amily unit.  We will hear from Judge Arceneaux\, ADA Ellen Doskey\, and Va
 lerie Cooper.
DTSTART;TZID=America/Chicago:20210511T120000
DTEND;TZID=America/Chicago:20210511T130000
LOCATION:Judge Arceneaux Court Room
SUMMARY:Family Preservation Court overview
END:VEVENT
END:VCALENDAR
