BEGIN:VCALENDAR
VERSION:2.0
PRODID:-//casaofterrebonne.org//NONSGML kigkonsult.se iCalcreator 2.30.10//
CALSCALE:GREGORIAN
METHOD:PUBLISH
UID:be650d2d-8243-4d1e-81c6-c96998d1239e
X-WR-CALDESC:
X-WR-RELCALID:9e9706fac621d59c5abd133b9b82372a
X-WR-TIMEZONE:America/Chicago
BEGIN:VTIMEZONE
TZID:America/Chicago
BEGIN:STANDARD
TZNAME:CST
DTSTART:20201101T020000
TZOFFSETFROM:-0500
TZOFFSETTO:-0600
RDATE:20211107T020000
RDATE:20221106T020000
END:STANDARD
BEGIN:DAYLIGHT
TZNAME:CDT
DTSTART:20210314T020000
TZOFFSETFROM:-0600
TZOFFSETTO:-0500
RDATE:20220313T020000
END:DAYLIGHT
END:VTIMEZONE
BEGIN:VEVENT
UID:98d4c614-c1dd-411d-b42a-45dd4f53ae5f
DTSTAMP:20260424T000411Z
DESCRIPTION:
DTSTART;TZID=America/Chicago:20210508T110000
DTEND;TZID=America/Chicago:20210508T140000
LOCATION:
SUMMARY:Southdown Bar's Crawfish Boil-Off
END:VEVENT
END:VCALENDAR
