BEGIN:VCALENDAR
VERSION:2.0
PRODID:-//casaofterrebonne.org//NONSGML kigkonsult.se iCalcreator 2.30.10//
CALSCALE:GREGORIAN
METHOD:PUBLISH
UID:8f4c85b2-0c06-4b94-842c-bf9688a6838d
X-WR-CALDESC:
X-WR-RELCALID:a8bd4a590c75cbd5326b09cbfb2af504
X-WR-TIMEZONE:America/Chicago
BEGIN:VTIMEZONE
TZID:America/Chicago
BEGIN:STANDARD
TZNAME:CST
DTSTART:20201101T020000
TZOFFSETFROM:-0500
TZOFFSETTO:-0600
RDATE:20211107T020000
END:STANDARD
BEGIN:DAYLIGHT
TZNAME:CDT
DTSTART:20210314T020000
TZOFFSETFROM:-0600
TZOFFSETTO:-0500
RDATE:20220313T020000
END:DAYLIGHT
END:VTIMEZONE
BEGIN:VEVENT
UID:ac41ff32-d416-4404-a411-15e2ca34769d
DTSTAMP:20260423T235528Z
DESCRIPTION:
DTSTART;TZID=America/Chicago:20210501T000000
DTEND;TZID=America/Chicago:20210501T235900
LOCATION:
SUMMARY:National Foster Care Month
END:VEVENT
END:VCALENDAR
