BEGIN:VCALENDAR
VERSION:2.0
PRODID:-//casaofterrebonne.org//NONSGML kigkonsult.se iCalcreator 2.30.10//
CALSCALE:GREGORIAN
METHOD:PUBLISH
UID:c1066529-294d-40b7-a44b-06afc1cde753
X-WR-CALDESC:Trust-Based Relational Intervention (TBRI) is an attachment-ba
 sed trauma-informed intervention that is designed to meet the complex need
 s of vulnerable children. TBRI uses empowering principles to address physi
 cal needs\, connecting principles to address attachment needs\, and correc
 ting principles to disarm fear-based behaviors. This Introduction and Over
 view to TBRI will give you insight into this complex intervention tool.\n
 \nDue to Covid-19 restrictions\, there is only 18 in-person spots. We will
  be holding this event through Zoom but it will not be recorded.
X-WR-RELCALID:079a77768d2ebb4fd9cb8bcb61ef1d1e
X-WR-TIMEZONE:America/Chicago
BEGIN:VTIMEZONE
TZID:America/Chicago
BEGIN:STANDARD
TZNAME:CST
DTSTART:20201101T020000
TZOFFSETFROM:-0500
TZOFFSETTO:-0600
RDATE:20211107T020000
END:STANDARD
BEGIN:DAYLIGHT
TZNAME:CDT
DTSTART:20210314T020000
TZOFFSETFROM:-0600
TZOFFSETTO:-0500
RDATE:20220313T020000
END:DAYLIGHT
END:VTIMEZONE
BEGIN:VEVENT
UID:0623ccfc-e67a-4989-a111-82b48b4d2c85
DTSTAMP:20260424T013752Z
DESCRIPTION:Trust-Based Relational Intervention (TBRI) is an attachment-bas
 ed trauma-informed intervention that is designed to meet the complex needs
  of vulnerable children. TBRI uses empowering principles to address physic
 al needs\, connecting principles to address attachment needs\, and correct
 ing principles to disarm fear-based behaviors. This Introduction and Overv
 iew to TBRI will give you insight into this complex intervention tool.\n\n
 Due to Covid-19 restrictions\, there is only 18 in-person spots. We will b
 e holding this event through Zoom but it will not be recorded.
DTSTART;TZID=America/Chicago:20210427T173000
DTEND;TZID=America/Chicago:20210427T204500
LOCATION:
SUMMARY:TBRI Training
END:VEVENT
END:VCALENDAR
