BEGIN:VCALENDAR
VERSION:2.0
PRODID:-//casaofterrebonne.org//NONSGML kigkonsult.se iCalcreator 2.30.10//
CALSCALE:GREGORIAN
METHOD:PUBLISH
UID:342e128b-bc21-4fff-9905-ec19b55a4ee5
X-WR-CALDESC:Each year during Volunteer Appreciation Week\, CASA of Terrebo
 nne tries to show our volunteers our deepest appreciation the best way Caj
 uns know how\; through food! With Covid-19 restrictions lowered\, we are a
 ble to once again host you all to an afternoon of boiled crawfish with all
  the fixins'!\n\nAll active CASAs volunteers are invited to join us at the
  office between 11 a.m. thru 2 p.m. next Wednesday\, April 21\, 2021\, for
  boiled crawfish\, provided by Doug Davis and The Shack of Houma in memory
  of Manuel Merlos.\n\nWe also want to thank the ones who support YOU\, eac
 h active volunteer is allowed to bring one guest with them to enjoy lunch.
 \n\nIf you are wary of being around others\, don't worry\, we aren't leavi
 ng you out! Mark whether you will be joining us in person you click the li
 nk below. If you choose 'No' to join us in person\, we will mark you down 
 as picking up your servings through a drive-thru to enjoy at home.\n\nWe h
 ope to see you and celebrate the hard work you have put in during this dif
 ficult year!
X-WR-RELCALID:63ea2814cdfe6539b1cf7400d4efe4fd
X-WR-TIMEZONE:America/Chicago
BEGIN:VTIMEZONE
TZID:America/Chicago
BEGIN:STANDARD
TZNAME:CST
DTSTART:20201101T020000
TZOFFSETFROM:-0500
TZOFFSETTO:-0600
RDATE:20211107T020000
END:STANDARD
BEGIN:DAYLIGHT
TZNAME:CDT
DTSTART:20210314T020000
TZOFFSETFROM:-0600
TZOFFSETTO:-0500
RDATE:20220313T020000
END:DAYLIGHT
END:VTIMEZONE
BEGIN:VEVENT
UID:a248f921-4242-4515-8615-9ab50a6d7418
DTSTAMP:20260424T013256Z
DESCRIPTION:Each year during Volunteer Appreciation Week\, CASA of Terrebon
 ne tries to show our volunteers our deepest appreciation the best way Caju
 ns know how\; through food! With Covid-19 restrictions lowered\, we are ab
 le to once again host you all to an afternoon of boiled crawfish with all 
 the fixins'!\n\nAll active CASAs volunteers are invited to join us at the 
 office between 11 a.m. thru 2 p.m. next Wednesday\, April 21\, 2021\, for 
 boiled crawfish\, provided by Doug Davis and The Shack of Houma in memory 
 of Manuel Merlos.\n\nWe also want to thank the ones who support YOU\, each
  active volunteer is allowed to bring one guest with them to enjoy lunch.
 \n\nIf you are wary of being around others\, don't worry\, we aren't leavi
 ng you out! Mark whether you will be joining us in person you click the li
 nk below. If you choose 'No' to join us in person\, we will mark you down 
 as picking up your servings through a drive-thru to enjoy at home.\n\nWe h
 ope to see you and celebrate the hard work you have put in during this dif
 ficult year!
DTSTART;TZID=America/Chicago:20210421T110000
DTEND;TZID=America/Chicago:20210421T140000
LOCATION:402 Canal Street\, Houma\, LA 70360
SUMMARY:Volunteer Appreciation Boil
END:VEVENT
END:VCALENDAR
