BEGIN:VCALENDAR
VERSION:2.0
PRODID:-//casaofterrebonne.org//NONSGML kigkonsult.se iCalcreator 2.30.10//
CALSCALE:GREGORIAN
METHOD:PUBLISH
UID:571eb14f-de9f-4545-81ab-7b88fa890605
X-WR-CALDESC:
X-WR-RELCALID:48d52755d0063151dd780045c527a3a6
X-WR-TIMEZONE:America/Chicago
BEGIN:VTIMEZONE
TZID:America/Chicago
BEGIN:STANDARD
TZNAME:CST
DTSTART:20201101T020000
TZOFFSETFROM:-0500
TZOFFSETTO:-0600
RDATE:20211107T020000
END:STANDARD
BEGIN:DAYLIGHT
TZNAME:CDT
DTSTART:20210314T020000
TZOFFSETFROM:-0600
TZOFFSETTO:-0500
RDATE:20220313T020000
END:DAYLIGHT
END:VTIMEZONE
BEGIN:VEVENT
UID:7c8eafd1-838f-468a-a8c9-7ac18d265489
DTSTAMP:20260424T013501Z
DESCRIPTION:
DTSTART;TZID=America/Chicago:20210413T173000
DTEND;TZID=America/Chicago:20210413T183000
LOCATION:
SUMMARY:Orientation-Class #59
END:VEVENT
END:VCALENDAR
