BEGIN:VCALENDAR
VERSION:2.0
PRODID:-//casaofterrebonne.org//NONSGML kigkonsult.se iCalcreator 2.30.10//
CALSCALE:GREGORIAN
METHOD:PUBLISH
UID:43846f13-0e61-4203-969c-27bf0d2a215c
X-WR-CALDESC:
X-WR-RELCALID:235611d4373e954fd340b0a939ae945f
X-WR-TIMEZONE:America/Chicago
BEGIN:VTIMEZONE
TZID:America/Chicago
BEGIN:STANDARD
TZNAME:CST
DTSTART:20201101T020000
TZOFFSETFROM:-0500
TZOFFSETTO:-0600
RDATE:20211107T020000
END:STANDARD
BEGIN:DAYLIGHT
TZNAME:CDT
DTSTART:20210314T020000
TZOFFSETFROM:-0600
TZOFFSETTO:-0500
RDATE:20220313T020000
END:DAYLIGHT
END:VTIMEZONE
BEGIN:VEVENT
UID:b35bc983-c33f-48e6-bfc8-c7b597765283
DTSTAMP:20260424T013856Z
DESCRIPTION:
DTSTART;TZID=America/Chicago:20210402T000000
DTEND;TZID=America/Chicago:20210402T235900
LOCATION:
SUMMARY:OFFICE CLOSED- Good Friday
END:VEVENT
END:VCALENDAR
