BEGIN:VCALENDAR
VERSION:2.0
PRODID:-//casaofterrebonne.org//NONSGML kigkonsult.se iCalcreator 2.30.10//
CALSCALE:GREGORIAN
METHOD:PUBLISH
UID:c5a0c024-099e-4c35-bbaa-75a69c56a4fb
X-WR-CALDESC:
X-WR-RELCALID:f6831c271fed461b070565ff7bccfb82
X-WR-TIMEZONE:America/Chicago
BEGIN:VTIMEZONE
TZID:America/Chicago
BEGIN:STANDARD
TZNAME:CST
DTSTART:20201101T020000
TZOFFSETFROM:-0500
TZOFFSETTO:-0600
RDATE:20211107T020000
END:STANDARD
BEGIN:DAYLIGHT
TZNAME:CDT
DTSTART:20210314T020000
TZOFFSETFROM:-0600
TZOFFSETTO:-0500
RDATE:20220313T020000
END:DAYLIGHT
END:VTIMEZONE
BEGIN:VEVENT
UID:9059f6c5-c04f-4c53-afd2-aaf365d80095
DTSTAMP:20260424T013752Z
DESCRIPTION:
DTSTART;TZID=America/Chicago:20210401T000000
DTEND;TZID=America/Chicago:20210401T235900
LOCATION:
SUMMARY:Child Abuse Prevention Month
END:VEVENT
END:VCALENDAR
