BEGIN:VCALENDAR
VERSION:2.0
PRODID:-//casaofterrebonne.org//NONSGML kigkonsult.se iCalcreator 2.30.10//
CALSCALE:GREGORIAN
METHOD:PUBLISH
UID:a8968048-3767-41d6-8eeb-6557677a84f6
X-WR-CALDESC:
X-WR-RELCALID:50bc33ef450860cbe0c44d31c7850326
X-WR-TIMEZONE:America/Chicago
BEGIN:VTIMEZONE
TZID:America/Chicago
BEGIN:STANDARD
TZNAME:CST
DTSTART:20201101T020000
TZOFFSETFROM:-0500
TZOFFSETTO:-0600
RDATE:20211107T020000
END:STANDARD
BEGIN:DAYLIGHT
TZNAME:CDT
DTSTART:20210314T020000
TZOFFSETFROM:-0600
TZOFFSETTO:-0500
RDATE:20220313T020000
END:DAYLIGHT
END:VTIMEZONE
BEGIN:VEVENT
UID:36c4c47e-893e-4a95-86dd-1702af9dd07e
DTSTAMP:20260424T031226Z
DESCRIPTION:
DTSTART;TZID=America/Chicago:20210327T080000
DTEND;TZID=America/Chicago:20210327T160000
LOCATION:
SUMMARY:Southdown Market Place
END:VEVENT
END:VCALENDAR
