BEGIN:VCALENDAR
VERSION:2.0
PRODID:-//casaofterrebonne.org//NONSGML kigkonsult.se iCalcreator 2.30.10//
CALSCALE:GREGORIAN
METHOD:PUBLISH
UID:b1d8cacc-e1bc-4d55-8900-6e95fd035ced
X-WR-CALDESC:
X-WR-RELCALID:2ea577b6281d94bb5779694defb19f00
X-WR-TIMEZONE:America/Chicago
BEGIN:VTIMEZONE
TZID:America/Chicago
BEGIN:STANDARD
TZNAME:CST
DTSTART:20201101T020000
TZOFFSETFROM:-0500
TZOFFSETTO:-0600
RDATE:20211107T020000
END:STANDARD
BEGIN:DAYLIGHT
TZNAME:CDT
DTSTART:20200308T020000
TZOFFSETFROM:-0600
TZOFFSETTO:-0500
RDATE:20210314T020000
RDATE:20220313T020000
END:DAYLIGHT
END:VTIMEZONE
BEGIN:VEVENT
UID:c02545c5-5208-4446-80cc-6d6a6b6a03d4
DTSTAMP:20260424T041757Z
DESCRIPTION:
DTSTART;TZID=America/Chicago:20210218T120000
DTEND;TZID=America/Chicago:20210218T130000
LOCATION:
SUMMARY:Board Meeting
END:VEVENT
END:VCALENDAR
