BEGIN:VCALENDAR
VERSION:2.0
PRODID:-//casaofterrebonne.org//NONSGML kigkonsult.se iCalcreator 2.30.10//
CALSCALE:GREGORIAN
METHOD:PUBLISH
UID:36b15249-e14d-4afe-8b77-e98893e35045
X-WR-CALDESC:
X-WR-RELCALID:08b141d2651a033ce44cbcaebf369b4d
X-WR-TIMEZONE:America/Chicago
BEGIN:VTIMEZONE
TZID:America/Chicago
BEGIN:STANDARD
TZNAME:CST
DTSTART:20201101T020000
TZOFFSETFROM:-0500
TZOFFSETTO:-0600
RDATE:20211107T020000
END:STANDARD
BEGIN:DAYLIGHT
TZNAME:CDT
DTSTART:20200308T020000
TZOFFSETFROM:-0600
TZOFFSETTO:-0500
RDATE:20210314T020000
RDATE:20220313T020000
END:DAYLIGHT
END:VTIMEZONE
BEGIN:VEVENT
UID:698affaf-ff1f-4f28-b5a4-486a9389860b
DTSTAMP:20260424T042629Z
DESCRIPTION:
DTSTART;TZID=America/Chicago:20210215T000000
DTEND;TZID=America/Chicago:20210215T235900
LOCATION:
SUMMARY:OFFICE CLOSED- President's Day
END:VEVENT
END:VCALENDAR
