BEGIN:VCALENDAR
VERSION:2.0
PRODID:-//casaofterrebonne.org//NONSGML kigkonsult.se iCalcreator 2.30.10//
CALSCALE:GREGORIAN
METHOD:PUBLISH
UID:7a9c691c-9ed7-4403-a201-24142dca3cd3
X-WR-CALDESC:
X-WR-RELCALID:a8fd6dbb6ab4997748bdd41dcbc7c65a
X-WR-TIMEZONE:America/Chicago
BEGIN:VTIMEZONE
TZID:America/Chicago
BEGIN:STANDARD
TZNAME:CST
DTSTART:20201101T020000
TZOFFSETFROM:-0500
TZOFFSETTO:-0600
RDATE:20211107T020000
END:STANDARD
BEGIN:DAYLIGHT
TZNAME:CDT
DTSTART:20200308T020000
TZOFFSETFROM:-0600
TZOFFSETTO:-0500
RDATE:20210314T020000
RDATE:20220313T020000
END:DAYLIGHT
END:VTIMEZONE
BEGIN:VEVENT
UID:8fc075f8-6cd4-45a8-b2ee-40f695dc1ac1
DTSTAMP:20260422T154711Z
DESCRIPTION:
DTSTART;TZID=America/Chicago:20210121T170000
DTEND;TZID=America/Chicago:20210121T180000
LOCATION:
SUMMARY:Board Meeting
END:VEVENT
END:VCALENDAR
