BEGIN:VCALENDAR
VERSION:2.0
PRODID:-//casaofterrebonne.org//NONSGML kigkonsult.se iCalcreator 2.30.10//
CALSCALE:GREGORIAN
METHOD:PUBLISH
UID:2c7ebff0-fe63-4f74-8236-53c5b2072773
X-WR-CALDESC:
X-WR-RELCALID:2250cfbc43b770d7d2b5e3be2ada7bbe
X-WR-TIMEZONE:America/Chicago
BEGIN:VTIMEZONE
TZID:America/Chicago
BEGIN:STANDARD
TZNAME:CST
DTSTART:20201101T020000
TZOFFSETFROM:-0500
TZOFFSETTO:-0600
RDATE:20211107T020000
END:STANDARD
BEGIN:DAYLIGHT
TZNAME:CDT
DTSTART:20200308T020000
TZOFFSETFROM:-0600
TZOFFSETTO:-0500
RDATE:20210314T020000
RDATE:20220313T020000
END:DAYLIGHT
END:VTIMEZONE
BEGIN:VEVENT
UID:5d1eb852-4025-4c18-b0ae-b6aa67e93c21
DTSTAMP:20260424T055506Z
DESCRIPTION:
DTSTART;TZID=America/Chicago:20210120T120000
DTEND;TZID=America/Chicago:20210120T130000
LOCATION:402 Canal St.\, Houma\, LA 70360 US
SUMMARY:Lunch & Learn
END:VEVENT
END:VCALENDAR
