BEGIN:VCALENDAR
VERSION:2.0
PRODID:-//casaofterrebonne.org//NONSGML kigkonsult.se iCalcreator 2.30.10//
CALSCALE:GREGORIAN
METHOD:PUBLISH
UID:d241ca91-1bfb-4f92-b1dd-5aba8e2478cc
X-WR-CALDESC:
X-WR-RELCALID:d60f5215591df09008a2a5c7b2717200
X-WR-TIMEZONE:America/Chicago
BEGIN:VTIMEZONE
TZID:America/Chicago
BEGIN:STANDARD
TZNAME:CST
DTSTART:20201101T020000
TZOFFSETFROM:-0500
TZOFFSETTO:-0600
RDATE:20211107T020000
END:STANDARD
BEGIN:DAYLIGHT
TZNAME:CDT
DTSTART:20200308T020000
TZOFFSETFROM:-0600
TZOFFSETTO:-0500
RDATE:20210314T020000
RDATE:20220313T020000
END:DAYLIGHT
END:VTIMEZONE
BEGIN:VEVENT
UID:457135ce-dfcc-47e7-ab07-fc895d013c70
DTSTAMP:20260424T055349Z
DESCRIPTION:
DTSTART;TZID=America/Chicago:20210119T173000
DTEND;TZID=America/Chicago:20210119T183000
LOCATION:
SUMMARY:Orientation-Class #58
END:VEVENT
END:VCALENDAR
